BEGIN:VCALENDAR
VERSION:2.0
PRODID:-//【呼吸・瞑想】イルチブレインヨガ堺東スタジオ - ECPv6.15.20//NONSGML v1.0//EN
CALSCALE:GREGORIAN
METHOD:PUBLISH
X-WR-CALNAME:【呼吸・瞑想】イルチブレインヨガ堺東スタジオ
X-ORIGINAL-URL:https://ilchibrainyoga-sakaihigashi.com
X-WR-CALDESC:【呼吸・瞑想】イルチブレインヨガ堺東スタジオ のイベント
REFRESH-INTERVAL;VALUE=DURATION:PT1H
X-Robots-Tag:noindex
X-PUBLISHED-TTL:PT1H
BEGIN:VTIMEZONE
TZID:Asia/Tokyo
BEGIN:STANDARD
TZOFFSETFROM:+0900
TZOFFSETTO:+0900
TZNAME:JST
DTSTART:20240101T000000
END:STANDARD
END:VTIMEZONE
BEGIN:VEVENT
DTSTART;TZID=Asia/Tokyo:20250429T140000
DTEND;TZID=Asia/Tokyo:20250502T170000
DTSTAMP:20260423T211139
CREATED:20250424T015808Z
LAST-MODIFIED:20250424T015808Z
UID:5363-1745935200-1746205200@ilchibrainyoga-sakaihigashi.com
SUMMARY:心を解き放つ特別な時間〜リーディング祭り
DESCRIPTION:「今の自分に必要なメッセージを受け取りたい」\n「新しい気づきを得たい」\nそんなあなたへ。\n🔮 選べる3つのリーディング 🔮\nオーラ撮影＆リーディング – あなたのエネルギーの輝きを視覚化！\n🌀 チャクラリーディング 🌀\n心身のバランスを見つめ直すヒントに！\n📜 天符経タロットリーディング 📜\n未来への指針を得る神秘のメッセージ！\nどれを選んでも、あなた自身を深く知る貴重な時間になること間違いなし！\nこの特別なワークショップをお見逃しなく！ \n開催日：\n4月29日(火)・30日（水）\n5月1日(木)・2日（金）\n開催時間： 14:00〜17:00\n（お好きな時間をご予約ください。）\n（別日別時間もご相談ください。） \n会場名：イルチブレインヨガ  堺東スタジオ\n会場住所：堺市堺区新町5-32 新町ビル6階\n参加費：\n1つ選んで1\,000円\n3つ全部で2\,500円\nトレーナー：井内　由美\n持ち物：動きやすい服装でどうぞ。\n問合せ電話：072-227-0631 \n\nLINEからのお申し込みはこちら→https://lin.ee/GsaCYCC \n\n\n  \n\n\n\n\n\n \n体験ご希望日時\n		(必須)　※ご注意：月曜日は定休日です\n		\n \n—以下から選択してください—101419時　—以下から選択してください—30分 ～ のクラス\n \nお名前\n		 (必須)\n		\n \n\n \nメールアドレス\n		 (必須)\n		\n \n\n \nお電話番号（携帯可）\n		 (必須)\n		\n \n\n \nこちらのスタジオを何でお知りになりましたか？\n		 (必須)\n		\n \nチラシ看板書籍雑誌紹介Yahoo検索Google検索口コミその他Webサイト\n \nご関心があること、習得したいこと（複数可）\n \n肩こり腰痛の改善自然治癒力アップ集中力アップダイエット体質改善ストレス解消丹田強化呼吸法瞑想法その他\n \n備考欄\n \n\n \n\n\n \n\n Δ \n\n\n\n株式会社DAHN WORLD JAPAN　ダンワールドジャパン
URL:https://ilchibrainyoga-sakaihigashi.com/event/sakaihigashi-120/
LOCATION:イルチブレインヨガ堺東スタジオ\, 堺区新町5－32　新町ビル6階　605号室\, 堺市\, 大阪府\, 5900079\, 日本
ATTACH;FMTTYPE=image/jpeg:https://ilchibrainyoga-sakaihigashi.com/wp-content/uploads/2025/04/4937438_s.jpg
ORGANIZER;CN="%E3%82%A4%E3%83%AB%E3%83%81%E3%83%96%E3%83%AC%E3%82%A4%E3%83%B3%E3%83%A8%E3%82%AC%E5%A0%BA%E6%9D%B1%E3%82%B9%E3%82%BF%E3%82%B8%E3%82%AA":MAILTO:sakaihigashi0631@gmail,com
END:VEVENT
END:VCALENDAR